BEGIN:VCALENDAR
VERSION:2.0
PRODID:-//The Northern Hotel - ECPv6.15.16.1//NONSGML v1.0//EN
CALSCALE:GREGORIAN
METHOD:PUBLISH
X-ORIGINAL-URL:https://thenorthern.com.au
X-WR-CALDESC:Events for The Northern Hotel
REFRESH-INTERVAL;VALUE=DURATION:PT1H
X-Robots-Tag:noindex
X-PUBLISHED-TTL:PT1H
BEGIN:VTIMEZONE
TZID:Australia/Melbourne
BEGIN:STANDARD
TZOFFSETFROM:+1100
TZOFFSETTO:+1000
TZNAME:AEST
DTSTART:20240406T160000
END:STANDARD
BEGIN:DAYLIGHT
TZOFFSETFROM:+1000
TZOFFSETTO:+1100
TZNAME:AEDT
DTSTART:20241005T160000
END:DAYLIGHT
BEGIN:STANDARD
TZOFFSETFROM:+1100
TZOFFSETTO:+1000
TZNAME:AEST
DTSTART:20250405T160000
END:STANDARD
BEGIN:DAYLIGHT
TZOFFSETFROM:+1000
TZOFFSETTO:+1100
TZNAME:AEDT
DTSTART:20251004T160000
END:DAYLIGHT
BEGIN:STANDARD
TZOFFSETFROM:+1100
TZOFFSETTO:+1000
TZNAME:AEST
DTSTART:20260404T160000
END:STANDARD
BEGIN:DAYLIGHT
TZOFFSETFROM:+1000
TZOFFSETTO:+1100
TZNAME:AEDT
DTSTART:20261003T160000
END:DAYLIGHT
END:VTIMEZONE
BEGIN:VEVENT
DTSTART;TZID=Australia/Melbourne:20250914T170000
DTEND;TZID=Australia/Melbourne:20250914T200000
DTSTAMP:20260420T020046
CREATED:20230606T002035Z
LAST-MODIFIED:20250831T234836Z
UID:2170-1757869200-1757880000@thenorthern.com.au
SUMMARY:Harry Nichols
DESCRIPTION:
URL:https://thenorthern.com.au/event/harry-nichols-3/
CATEGORIES:Front Bar
END:VEVENT
BEGIN:VEVENT
DTSTART;TZID=Australia/Melbourne:20250914T210000
DTEND;TZID=Australia/Melbourne:20250914T210000
DTSTAMP:20260420T020046
CREATED:20240503T033546Z
LAST-MODIFIED:20250901T005819Z
UID:2878-1757883600-1757883600@thenorthern.com.au
SUMMARY:John Hill & Mick Buckley
DESCRIPTION:
URL:https://thenorthern.com.au/event/john-hill-mick-buckley/2025-09-14/
CATEGORIES:Duelling Pianos
END:VEVENT
BEGIN:VEVENT
DTSTART;TZID=Australia/Melbourne:20250919T190000
DTEND;TZID=Australia/Melbourne:20250919T220000
DTSTAMP:20260420T020046
CREATED:20240930T045454Z
LAST-MODIFIED:20250831T235516Z
UID:3409-1758308400-1758319200@thenorthern.com.au
SUMMARY:Isaac Frankham
DESCRIPTION:
URL:https://thenorthern.com.au/event/isaac-frankham/
CATEGORIES:Front Bar
END:VEVENT
BEGIN:VEVENT
DTSTART;TZID=Australia/Melbourne:20250919T200000
DTEND;TZID=Australia/Melbourne:20250919T230000
DTSTAMP:20260420T020046
CREATED:20230911T042307Z
LAST-MODIFIED:20250901T011931Z
UID:2513-1758312000-1758322800@thenorthern.com.au
SUMMARY:Mick Buckley & Shane Parry
DESCRIPTION:
URL:https://thenorthern.com.au/event/mick-buckley-shane-parry/
CATEGORIES:Duelling Pianos
END:VEVENT
BEGIN:VEVENT
DTSTART;TZID=Australia/Melbourne:20250920T223000
DTEND;TZID=Australia/Melbourne:20250920T223000
DTSTAMP:20260420T020046
CREATED:20250331T232100Z
LAST-MODIFIED:20250831T235727Z
UID:4148-1758407400-1758407400@thenorthern.com.au
SUMMARY:JB's Blue Breakers 10:30
DESCRIPTION:
URL:https://thenorthern.com.au/event/jbs-blue-breakers-1030-cl/
CATEGORIES:Front Bar
END:VEVENT
BEGIN:VEVENT
DTSTART;TZID=Australia/Melbourne:20250921T170000
DTEND;TZID=Australia/Melbourne:20250921T200000
DTSTAMP:20260420T020046
CREATED:20240528T033913Z
LAST-MODIFIED:20250831T235908Z
UID:2967-1758474000-1758484800@thenorthern.com.au
SUMMARY:Trilla
DESCRIPTION:
URL:https://thenorthern.com.au/event/trillia/
CATEGORIES:Front Bar
END:VEVENT
BEGIN:VEVENT
DTSTART;TZID=Australia/Melbourne:20250921T201500
DTEND;TZID=Australia/Melbourne:20250921T221500
DTSTAMP:20260420T020046
CREATED:20250831T235951Z
LAST-MODIFIED:20250831T235951Z
UID:4652-1758485700-1758492900@thenorthern.com.au
SUMMARY:Dj Fazz
DESCRIPTION:
URL:https://thenorthern.com.au/event/dj-fazz/
CATEGORIES:Front Bar
END:VEVENT
BEGIN:VEVENT
DTSTART;TZID=Australia/Melbourne:20250925T213000
DTEND;TZID=Australia/Melbourne:20250925T213000
DTSTAMP:20260420T020046
CREATED:20240801T024914Z
LAST-MODIFIED:20250901T000419Z
UID:3196-1758835800-1758835800@thenorthern.com.au
SUMMARY:DJ Oren Selecta 9:30pm CL
DESCRIPTION:
URL:https://thenorthern.com.au/event/dj-oren-selecta-10pm-cl/
CATEGORIES:Front Bar
END:VEVENT
BEGIN:VEVENT
DTSTART;TZID=Australia/Melbourne:20250927T190000
DTEND;TZID=Australia/Melbourne:20250927T220000
DTSTAMP:20260420T020046
CREATED:20250901T000617Z
LAST-MODIFIED:20250901T000617Z
UID:4660-1758999600-1759010400@thenorthern.com.au
SUMMARY:Eri
DESCRIPTION:
URL:https://thenorthern.com.au/event/eri/
CATEGORIES:Front Bar
END:VEVENT
BEGIN:VEVENT
DTSTART;TZID=Australia/Melbourne:20250927T223000
DTEND;TZID=Australia/Melbourne:20250927T223000
DTSTAMP:20260420T020046
CREATED:20240801T030400Z
LAST-MODIFIED:20250901T000734Z
UID:3203-1759012200-1759012200@thenorthern.com.au
SUMMARY:Poly & Co - 10:30pm CL
DESCRIPTION:
URL:https://thenorthern.com.au/event/poly-co-trio/
CATEGORIES:Front Bar
END:VEVENT
BEGIN:VEVENT
DTSTART;TZID=Australia/Melbourne:20250928T170000
DTEND;TZID=Australia/Melbourne:20250928T200000
DTSTAMP:20260420T020046
CREATED:20250530T023635Z
LAST-MODIFIED:20250901T000805Z
UID:4336-1759078800-1759089600@thenorthern.com.au
SUMMARY:Sam Buckley
DESCRIPTION:
URL:https://thenorthern.com.au/event/sam-buckley/
CATEGORIES:Front Bar
END:VEVENT
BEGIN:VEVENT
DTSTART;TZID=Australia/Melbourne:20250930T210000
DTEND;TZID=Australia/Melbourne:20250930T210000
DTSTAMP:20260420T020046
CREATED:20240930T043636Z
LAST-MODIFIED:20250930T050029Z
UID:3385-1759266000-1759266000@thenorthern.com.au
SUMMARY:Bodhi Acton & Mitchell Dormer
DESCRIPTION:
URL:https://thenorthern.com.au/event/bodhi-acton-mitchell-dormer-2/2025-09-30/
CATEGORIES:Duelling Pianos
END:VEVENT
BEGIN:VEVENT
DTSTART;TZID=Australia/Melbourne:20251001T180000
DTEND;TZID=Australia/Melbourne:20251001T210000
DTSTAMP:20260420T020046
CREATED:20230922T101525Z
LAST-MODIFIED:20250930T025408Z
UID:2552-1759341600-1759352400@thenorthern.com.au
SUMMARY:Alex Bowen
DESCRIPTION:
URL:https://thenorthern.com.au/event/alex-bowen-4/
CATEGORIES:Front Bar
END:VEVENT
BEGIN:VEVENT
DTSTART;TZID=Australia/Melbourne:20251002T170000
DTEND;TZID=Australia/Melbourne:20251002T200000
DTSTAMP:20260420T020046
CREATED:20250930T025535Z
LAST-MODIFIED:20250930T025535Z
UID:4741-1759424400-1759435200@thenorthern.com.au
SUMMARY:Ben Walsh Duo
DESCRIPTION:
URL:https://thenorthern.com.au/event/ben-walsh-duo/
CATEGORIES:Front Bar
END:VEVENT
BEGIN:VEVENT
DTSTART;TZID=Australia/Melbourne:20251002T203000
DTEND;TZID=Australia/Melbourne:20251002T203000
DTSTAMP:20260420T020046
CREATED:20250930T025638Z
LAST-MODIFIED:20250930T025638Z
UID:4742-1759437000-1759437000@thenorthern.com.au
SUMMARY:DJ Renee Simone 8:30 pm CL
DESCRIPTION:
URL:https://thenorthern.com.au/event/dj-renee-simone-830-pm-cl/
CATEGORIES:Front Bar
END:VEVENT
BEGIN:VEVENT
DTSTART;TZID=Australia/Melbourne:20251003T190000
DTEND;TZID=Australia/Melbourne:20251003T220000
DTSTAMP:20260420T020046
CREATED:20250114T021818Z
LAST-MODIFIED:20250930T025742Z
UID:3791-1759518000-1759528800@thenorthern.com.au
SUMMARY:Andy V
DESCRIPTION:
URL:https://thenorthern.com.au/event/andy-v/
CATEGORIES:Front Bar
END:VEVENT
BEGIN:VEVENT
DTSTART;TZID=Australia/Melbourne:20251003T200000
DTEND;TZID=Australia/Melbourne:20251003T230000
DTSTAMP:20260420T020046
CREATED:20250930T041216Z
LAST-MODIFIED:20250930T041216Z
UID:4777-1759521600-1759532400@thenorthern.com.au
SUMMARY:Jake Bistrow & Mick Buckley
DESCRIPTION:
URL:https://thenorthern.com.au/event/jake-bistrow-mick-buckley/
CATEGORIES:Duelling Pianos
END:VEVENT
BEGIN:VEVENT
DTSTART;TZID=Australia/Melbourne:20251003T223000
DTEND;TZID=Australia/Melbourne:20251003T223000
DTSTAMP:20260420T020046
CREATED:20250530T024941Z
LAST-MODIFIED:20250930T025810Z
UID:4350-1759530600-1759530600@thenorthern.com.au
SUMMARY:Marshall & The Fro
DESCRIPTION:
URL:https://thenorthern.com.au/event/marshall-the-fro/
CATEGORIES:Front Bar
END:VEVENT
BEGIN:VEVENT
DTSTART;TZID=Australia/Melbourne:20251003T230000
DTEND;TZID=Australia/Melbourne:20251003T230000
DTSTAMP:20260420T020046
CREATED:20230717T004010Z
LAST-MODIFIED:20250930T225405Z
UID:2264-1759532400-1759532400@thenorthern.com.au
SUMMARY:Sam Wheat & Dizzy J
DESCRIPTION:
URL:https://thenorthern.com.au/event/sam-wheat-3/2025-10-03/
CATEGORIES:Duelling Pianos
END:VEVENT
BEGIN:VEVENT
DTSTART;TZID=Australia/Melbourne:20251004T190000
DTEND;TZID=Australia/Melbourne:20251004T220000
DTSTAMP:20260420T020046
CREATED:20250505T043531Z
LAST-MODIFIED:20250930T025850Z
UID:4224-1759604400-1759615200@thenorthern.com.au
SUMMARY:Matty Rogers Duo
DESCRIPTION:
URL:https://thenorthern.com.au/event/matty-rogers-duo/
CATEGORIES:Front Bar
END:VEVENT
BEGIN:VEVENT
DTSTART;TZID=Australia/Melbourne:20251004T200000
DTEND;TZID=Australia/Melbourne:20251004T230000
DTSTAMP:20260420T020046
CREATED:20230809T080855Z
LAST-MODIFIED:20250930T050227Z
UID:2339-1759608000-1759618800@thenorthern.com.au
SUMMARY:Sam Wheat & Mick Buckley
DESCRIPTION:
URL:https://thenorthern.com.au/event/mick-buckley-sam-wheat-2/2025-10-04/
CATEGORIES:Duelling Pianos
END:VEVENT
BEGIN:VEVENT
DTSTART;TZID=Australia/Melbourne:20251004T221500
DTEND;TZID=Australia/Melbourne:20251004T221500
DTSTAMP:20260420T020046
CREATED:20250930T030019Z
LAST-MODIFIED:20250930T030019Z
UID:4743-1759616100-1759616100@thenorthern.com.au
SUMMARY:Donny Shades Band
DESCRIPTION:
URL:https://thenorthern.com.au/event/donny-shades-band/
CATEGORIES:Front Bar
END:VEVENT
BEGIN:VEVENT
DTSTART;TZID=Australia/Melbourne:20251004T230000
DTEND;TZID=Australia/Melbourne:20251004T230000
DTSTAMP:20260420T020046
CREATED:20230717T003858Z
LAST-MODIFIED:20250930T041522Z
UID:2262-1759618800-1759618800@thenorthern.com.au
SUMMARY:John Hill & Dizzy J
DESCRIPTION:
URL:https://thenorthern.com.au/event/john-hill-20/
CATEGORIES:Duelling Pianos
END:VEVENT
BEGIN:VEVENT
DTSTART;TZID=Australia/Melbourne:20251005T163000
DTEND;TZID=Australia/Melbourne:20251005T193000
DTSTAMP:20260420T020046
CREATED:20230922T101656Z
LAST-MODIFIED:20250930T030123Z
UID:2556-1759681800-1759692600@thenorthern.com.au
SUMMARY:Dan Hannaford
DESCRIPTION:
URL:https://thenorthern.com.au/event/dan-hannaford-19/
CATEGORIES:Front Bar
END:VEVENT
BEGIN:VEVENT
DTSTART;TZID=Australia/Melbourne:20251005T193000
DTEND;TZID=Australia/Melbourne:20251005T223000
DTSTAMP:20260420T020046
CREATED:20250930T030236Z
LAST-MODIFIED:20250930T030300Z
UID:4744-1759692600-1759703400@thenorthern.com.au
SUMMARY:Grand Final - 7.30 kick off
DESCRIPTION:
URL:https://thenorthern.com.au/event/grand-final-7-30-kick-off/
CATEGORIES:Front Bar
END:VEVENT
BEGIN:VEVENT
DTSTART;TZID=Australia/Melbourne:20251005T210000
DTEND;TZID=Australia/Melbourne:20251005T210000
DTSTAMP:20260420T020046
CREATED:20240326T020814Z
LAST-MODIFIED:20250930T041643Z
UID:2722-1759698000-1759698000@thenorthern.com.au
SUMMARY:Mick Buckley & John Hill
DESCRIPTION:
URL:https://thenorthern.com.au/event/mick-buckley-john-hill-9/
CATEGORIES:Duelling Pianos
END:VEVENT
BEGIN:VEVENT
DTSTART;TZID=Australia/Melbourne:20251005T220000
DTEND;TZID=Australia/Melbourne:20251005T220000
DTSTAMP:20260420T020046
CREATED:20250831T235620Z
LAST-MODIFIED:20250930T030401Z
UID:4650-1759701600-1759701600@thenorthern.com.au
SUMMARY:Jamie Lowe 10:00 pm CL
DESCRIPTION:
URL:https://thenorthern.com.au/event/dj-jamie-lowe-1015pm-cl/
CATEGORIES:Front Bar
END:VEVENT
BEGIN:VEVENT
DTSTART;TZID=Australia/Melbourne:20251006T180000
DTEND;TZID=Australia/Melbourne:20251006T210000
DTSTAMP:20260420T020046
CREATED:20230831T085044Z
LAST-MODIFIED:20250930T030603Z
UID:2462-1759773600-1759784400@thenorthern.com.au
SUMMARY:Kane Muir
DESCRIPTION:
URL:https://thenorthern.com.au/event/kane-muir-18/
CATEGORIES:Front Bar
END:VEVENT
BEGIN:VEVENT
DTSTART;TZID=Australia/Melbourne:20251006T210000
DTEND;TZID=Australia/Melbourne:20251006T210000
DTSTAMP:20260420T020046
CREATED:20240503T031106Z
LAST-MODIFIED:20250930T041729Z
UID:2870-1759784400-1759784400@thenorthern.com.au
SUMMARY:Mitchell Dormer & Dizzy J
DESCRIPTION:
URL:https://thenorthern.com.au/event/mitchell-dormer-dizzy-j/
CATEGORIES:Duelling Pianos
END:VEVENT
BEGIN:VEVENT
DTSTART;TZID=Australia/Melbourne:20251006T211500
DTEND;TZID=Australia/Melbourne:20251006T211500
DTSTAMP:20260420T020046
CREATED:20250505T044604Z
LAST-MODIFIED:20250930T030714Z
UID:4235-1759785300-1759785300@thenorthern.com.au
SUMMARY:Davi Bangma 9:15 CL
DESCRIPTION:
URL:https://thenorthern.com.au/event/dj-davi-bangma-1015-cl/
CATEGORIES:Front Bar
END:VEVENT
END:VCALENDAR