BEGIN:VCALENDAR
VERSION:2.0
PRODID:-//The Northern Hotel - ECPv6.15.16.1//NONSGML v1.0//EN
CALSCALE:GREGORIAN
METHOD:PUBLISH
X-WR-CALNAME:The Northern Hotel
X-ORIGINAL-URL:https://thenorthern.com.au
X-WR-CALDESC:Events for The Northern Hotel
REFRESH-INTERVAL;VALUE=DURATION:PT1H
X-Robots-Tag:noindex
X-PUBLISHED-TTL:PT1H
BEGIN:VTIMEZONE
TZID:Australia/Melbourne
BEGIN:STANDARD
TZOFFSETFROM:+1100
TZOFFSETTO:+1000
TZNAME:AEST
DTSTART:20240406T160000
END:STANDARD
BEGIN:DAYLIGHT
TZOFFSETFROM:+1000
TZOFFSETTO:+1100
TZNAME:AEDT
DTSTART:20241005T160000
END:DAYLIGHT
BEGIN:STANDARD
TZOFFSETFROM:+1100
TZOFFSETTO:+1000
TZNAME:AEST
DTSTART:20250405T160000
END:STANDARD
BEGIN:DAYLIGHT
TZOFFSETFROM:+1000
TZOFFSETTO:+1100
TZNAME:AEDT
DTSTART:20251004T160000
END:DAYLIGHT
BEGIN:STANDARD
TZOFFSETFROM:+1100
TZOFFSETTO:+1000
TZNAME:AEST
DTSTART:20260404T160000
END:STANDARD
BEGIN:DAYLIGHT
TZOFFSETFROM:+1000
TZOFFSETTO:+1100
TZNAME:AEDT
DTSTART:20261003T160000
END:DAYLIGHT
END:VTIMEZONE
BEGIN:VEVENT
DTSTART;TZID=Australia/Melbourne:20251006T180000
DTEND;TZID=Australia/Melbourne:20251006T210000
DTSTAMP:20260424T233706
CREATED:20230831T085044Z
LAST-MODIFIED:20250930T030603Z
UID:2462-1759773600-1759784400@thenorthern.com.au
SUMMARY:Kane Muir
DESCRIPTION:
URL:https://thenorthern.com.au/event/kane-muir-18/
CATEGORIES:Front Bar
END:VEVENT
BEGIN:VEVENT
DTSTART;TZID=Australia/Melbourne:20251006T210000
DTEND;TZID=Australia/Melbourne:20251006T210000
DTSTAMP:20260424T233706
CREATED:20240503T031106Z
LAST-MODIFIED:20250930T041729Z
UID:2870-1759784400-1759784400@thenorthern.com.au
SUMMARY:Mitchell Dormer & Dizzy J
DESCRIPTION:
URL:https://thenorthern.com.au/event/mitchell-dormer-dizzy-j/
CATEGORIES:Duelling Pianos
END:VEVENT
BEGIN:VEVENT
DTSTART;TZID=Australia/Melbourne:20251006T211500
DTEND;TZID=Australia/Melbourne:20251006T211500
DTSTAMP:20260424T233706
CREATED:20250505T044604Z
LAST-MODIFIED:20250930T030714Z
UID:4235-1759785300-1759785300@thenorthern.com.au
SUMMARY:Davi Bangma 9:15 CL
DESCRIPTION:
URL:https://thenorthern.com.au/event/dj-davi-bangma-1015-cl/
CATEGORIES:Front Bar
END:VEVENT
BEGIN:VEVENT
DTSTART;TZID=Australia/Melbourne:20251007T210000
DTEND;TZID=Australia/Melbourne:20251007T210000
DTSTAMP:20260424T233706
CREATED:20250103T032348Z
LAST-MODIFIED:20250930T225550Z
UID:3708-1759870800-1759870800@thenorthern.com.au
SUMMARY:Mitchell Dormer & Shane Parry
DESCRIPTION:
URL:https://thenorthern.com.au/event/mitchell-dormer-shane-parry-2/2025-10-07/
CATEGORIES:Duelling Pianos
END:VEVENT
BEGIN:VEVENT
DTSTART;TZID=Australia/Melbourne:20251009T170000
DTEND;TZID=Australia/Melbourne:20251009T200000
DTSTAMP:20260424T233706
CREATED:20240502T060403Z
LAST-MODIFIED:20250930T031122Z
UID:2838-1760029200-1760040000@thenorthern.com.au
SUMMARY:Jordan Mac
DESCRIPTION:
URL:https://thenorthern.com.au/event/jordan-mac/
CATEGORIES:Front Bar
END:VEVENT
BEGIN:VEVENT
DTSTART;TZID=Australia/Melbourne:20251009T203000
DTEND;TZID=Australia/Melbourne:20251009T203000
DTSTAMP:20260424T233706
CREATED:20250930T031239Z
LAST-MODIFIED:20250930T033622Z
UID:4750-1760041800-1760041800@thenorthern.com.au
SUMMARY:DJ Yazmin
DESCRIPTION:
URL:https://thenorthern.com.au/event/dj-yazmin/2025-10-09/
CATEGORIES:Front Bar
END:VEVENT
BEGIN:VEVENT
DTSTART;TZID=Australia/Melbourne:20251010T190000
DTEND;TZID=Australia/Melbourne:20251010T220000
DTSTAMP:20260424T233706
CREATED:20250930T031324Z
LAST-MODIFIED:20250930T031324Z
UID:4751-1760122800-1760133600@thenorthern.com.au
SUMMARY:Huxgold
DESCRIPTION:
URL:https://thenorthern.com.au/event/huxgold/
CATEGORIES:Front Bar
END:VEVENT
BEGIN:VEVENT
DTSTART;TZID=Australia/Melbourne:20251010T200000
DTEND;TZID=Australia/Melbourne:20251010T230000
DTSTAMP:20260424T233706
CREATED:20240930T034007Z
LAST-MODIFIED:20250930T045623Z
UID:3356-1760126400-1760137200@thenorthern.com.au
SUMMARY:Shane Parry & Bodhi Acton
DESCRIPTION:
URL:https://thenorthern.com.au/event/shane-parry-bodhi-acton/2025-10-10/
CATEGORIES:Duelling Pianos
END:VEVENT
BEGIN:VEVENT
DTSTART;TZID=Australia/Melbourne:20251010T221500
DTEND;TZID=Australia/Melbourne:20251010T221500
DTSTAMP:20260424T233706
CREATED:20250930T031433Z
LAST-MODIFIED:20250930T031433Z
UID:4752-1760134500-1760134500@thenorthern.com.au
SUMMARY:Dj Joey Tuckshop
DESCRIPTION:
URL:https://thenorthern.com.au/event/dj-joey-tuckshop/
CATEGORIES:Front Bar
END:VEVENT
BEGIN:VEVENT
DTSTART;TZID=Australia/Melbourne:20251011T190000
DTEND;TZID=Australia/Melbourne:20251011T220000
DTSTAMP:20260424T233706
CREATED:20250930T031541Z
LAST-MODIFIED:20250930T031541Z
UID:4753-1760209200-1760220000@thenorthern.com.au
SUMMARY:Cinamon Sun
DESCRIPTION:
URL:https://thenorthern.com.au/event/cinamon-sun/
CATEGORIES:Front Bar
END:VEVENT
BEGIN:VEVENT
DTSTART;TZID=Australia/Melbourne:20251011T221500
DTEND;TZID=Australia/Melbourne:20251011T233000
DTSTAMP:20260424T233706
CREATED:20250930T031658Z
LAST-MODIFIED:20250930T031829Z
UID:4754-1760220900-1760225400@thenorthern.com.au
SUMMARY:DJ Mishkelly
DESCRIPTION:
URL:https://thenorthern.com.au/event/dj-mishkelly/
CATEGORIES:Front Bar
END:VEVENT
BEGIN:VEVENT
DTSTART;TZID=Australia/Melbourne:20251011T230000
DTEND;TZID=Australia/Melbourne:20251011T230000
DTSTAMP:20260424T233706
CREATED:20250930T042532Z
LAST-MODIFIED:20250930T050415Z
UID:4784-1760223600-1760223600@thenorthern.com.au
SUMMARY:Jake Bistrow & Bodhi Acton
DESCRIPTION:
URL:https://thenorthern.com.au/event/jake-bistrow-bodhi-acton/2025-10-11/
CATEGORIES:Duelling Pianos
END:VEVENT
BEGIN:VEVENT
DTSTART;TZID=Australia/Melbourne:20251011T233000
DTEND;TZID=Australia/Melbourne:20251011T233000
DTSTAMP:20260424T233706
CREATED:20250930T031815Z
LAST-MODIFIED:20250930T031815Z
UID:4755-1760225400-1760225400@thenorthern.com.au
SUMMARY:Secret DJ Set
DESCRIPTION:
URL:https://thenorthern.com.au/event/secret-dj-set/
CATEGORIES:Front Bar
END:VEVENT
BEGIN:VEVENT
DTSTART;TZID=Australia/Melbourne:20251012T170000
DTEND;TZID=Australia/Melbourne:20251012T200000
DTSTAMP:20260424T233706
CREATED:20250930T031909Z
LAST-MODIFIED:20250930T031909Z
UID:4756-1760288400-1760299200@thenorthern.com.au
SUMMARY:Erin Shay
DESCRIPTION:
URL:https://thenorthern.com.au/event/erin-shay/
CATEGORIES:Front Bar
END:VEVENT
BEGIN:VEVENT
DTSTART;TZID=Australia/Melbourne:20251012T201500
DTEND;TZID=Australia/Melbourne:20251012T201500
DTSTAMP:20260424T233706
CREATED:20250930T032012Z
LAST-MODIFIED:20250930T032012Z
UID:4757-1760300100-1760300100@thenorthern.com.au
SUMMARY:Vinyl Sunday Ft Wax Addicts
DESCRIPTION:
URL:https://thenorthern.com.au/event/vinyl-sunday-ft-wax-addicts/
CATEGORIES:Front Bar
END:VEVENT
BEGIN:VEVENT
DTSTART;TZID=Australia/Melbourne:20251012T210000
DTEND;TZID=Australia/Melbourne:20251012T210000
DTSTAMP:20260424T233706
CREATED:20230911T041931Z
LAST-MODIFIED:20250930T045722Z
UID:2505-1760302800-1760302800@thenorthern.com.au
SUMMARY:John Hill & Shane Parry
DESCRIPTION:
URL:https://thenorthern.com.au/event/john-hill-shane-parry-3/2025-10-12/
CATEGORIES:Duelling Pianos
END:VEVENT
BEGIN:VEVENT
DTSTART;TZID=Australia/Melbourne:20251013T211500
DTEND;TZID=Australia/Melbourne:20251013T211500
DTSTAMP:20260424T233706
CREATED:20250831T234955Z
LAST-MODIFIED:20250930T032208Z
UID:4643-1760390100-1760390100@thenorthern.com.au
SUMMARY:Dj Oren Selecta
DESCRIPTION:
URL:https://thenorthern.com.au/event/dj-oren-selecta/
CATEGORIES:Front Bar
END:VEVENT
BEGIN:VEVENT
DTSTART;TZID=Australia/Melbourne:20251015T180000
DTEND;TZID=Australia/Melbourne:20251015T210000
DTSTAMP:20260424T233706
CREATED:20250930T032255Z
LAST-MODIFIED:20250930T032255Z
UID:4758-1760551200-1760562000@thenorthern.com.au
SUMMARY:Joe Conroy
DESCRIPTION:
URL:https://thenorthern.com.au/event/joe-conroy/
CATEGORIES:Front Bar
END:VEVENT
BEGIN:VEVENT
DTSTART;TZID=Australia/Melbourne:20251016T170000
DTEND;TZID=Australia/Melbourne:20251016T200000
DTSTAMP:20260424T233706
CREATED:20240304T030732Z
LAST-MODIFIED:20250930T032337Z
UID:2702-1760634000-1760644800@thenorthern.com.au
SUMMARY:Kane Muir Duo
DESCRIPTION:
URL:https://thenorthern.com.au/event/kane-murr/
CATEGORIES:Front Bar
END:VEVENT
BEGIN:VEVENT
DTSTART;TZID=Australia/Melbourne:20251016T203000
DTEND;TZID=Australia/Melbourne:20251016T203000
DTSTAMP:20260424T233706
CREATED:20250505T044710Z
LAST-MODIFIED:20250930T032427Z
UID:4239-1760646600-1760646600@thenorthern.com.au
SUMMARY:DJ - Quendo 8:30 CL
DESCRIPTION:
URL:https://thenorthern.com.au/event/dj-quendo-830-cl/
CATEGORIES:Front Bar
END:VEVENT
BEGIN:VEVENT
DTSTART;TZID=Australia/Melbourne:20251017T190000
DTEND;TZID=Australia/Melbourne:20251017T220000
DTSTAMP:20260424T233706
CREATED:20250530T021723Z
LAST-MODIFIED:20250930T032454Z
UID:4302-1760727600-1760738400@thenorthern.com.au
SUMMARY:Amber Rose & Jack Reeves
DESCRIPTION:
URL:https://thenorthern.com.au/event/amber-rose-jack-reeves/
CATEGORIES:Front Bar
END:VEVENT
BEGIN:VEVENT
DTSTART;TZID=Australia/Melbourne:20251017T200000
DTEND;TZID=Australia/Melbourne:20251017T230000
DTSTAMP:20260424T233706
CREATED:20230726T031854Z
LAST-MODIFIED:20250930T043010Z
UID:2299-1760731200-1760742000@thenorthern.com.au
SUMMARY:John Hill & Sam Wheat
DESCRIPTION:
URL:https://thenorthern.com.au/event/john-hill-sam-wheat/
CATEGORIES:Duelling Pianos
END:VEVENT
BEGIN:VEVENT
DTSTART;TZID=Australia/Melbourne:20251017T221500
DTEND;TZID=Australia/Melbourne:20251017T221500
DTSTAMP:20260424T233706
CREATED:20250930T032541Z
LAST-MODIFIED:20250930T032541Z
UID:4759-1760739300-1760739300@thenorthern.com.au
SUMMARY:DJ ...Da
DESCRIPTION:
URL:https://thenorthern.com.au/event/dj-da/
CATEGORIES:Front Bar
END:VEVENT
BEGIN:VEVENT
DTSTART;TZID=Australia/Melbourne:20251018T190000
DTEND;TZID=Australia/Melbourne:20251018T220000
DTSTAMP:20260424T233706
CREATED:20250930T032648Z
LAST-MODIFIED:20250930T032648Z
UID:4760-1760814000-1760824800@thenorthern.com.au
SUMMARY:BOUKABOOLOZA
DESCRIPTION:
URL:https://thenorthern.com.au/event/boukabooloza/
CATEGORIES:Front Bar
END:VEVENT
BEGIN:VEVENT
DTSTART;TZID=Australia/Melbourne:20251018T221500
DTEND;TZID=Australia/Melbourne:20251018T221500
DTSTAMP:20260424T233706
CREATED:20250930T032731Z
LAST-MODIFIED:20250930T032731Z
UID:4761-1760825700-1760825700@thenorthern.com.au
SUMMARY:DJ Viscosity
DESCRIPTION:
URL:https://thenorthern.com.au/event/dj-viscosity/
CATEGORIES:Front Bar
END:VEVENT
BEGIN:VEVENT
DTSTART;TZID=Australia/Melbourne:20251019T170000
DTEND;TZID=Australia/Melbourne:20251019T200000
DTSTAMP:20260424T233706
CREATED:20250930T032849Z
LAST-MODIFIED:20250930T032849Z
UID:4763-1760893200-1760904000@thenorthern.com.au
SUMMARY:Aly or Trilla
DESCRIPTION:
URL:https://thenorthern.com.au/event/aly-or-trilla/
CATEGORIES:Front Bar
END:VEVENT
BEGIN:VEVENT
DTSTART;TZID=Australia/Melbourne:20251019T201500
DTEND;TZID=Australia/Melbourne:20251019T201500
DTSTAMP:20260424T233706
CREATED:20250930T032949Z
LAST-MODIFIED:20250930T032949Z
UID:4764-1760904900-1760904900@thenorthern.com.au
SUMMARY:Vinyl Sundays Reiflex
DESCRIPTION:
URL:https://thenorthern.com.au/event/vinyl-sundays-reiflex/
CATEGORIES:Front Bar
END:VEVENT
BEGIN:VEVENT
DTSTART;TZID=Australia/Melbourne:20251020T180000
DTEND;TZID=Australia/Melbourne:20251020T200000
DTSTAMP:20260424T233706
CREATED:20250930T033024Z
LAST-MODIFIED:20250930T033024Z
UID:4765-1760983200-1760990400@thenorthern.com.au
SUMMARY:Coasty
DESCRIPTION:
URL:https://thenorthern.com.au/event/coasty/
CATEGORIES:Front Bar
END:VEVENT
BEGIN:VEVENT
DTSTART;TZID=Australia/Melbourne:20251020T210000
DTEND;TZID=Australia/Melbourne:20251020T210000
DTSTAMP:20260424T233706
CREATED:20250930T045043Z
LAST-MODIFIED:20250930T045043Z
UID:4789-1760994000-1760994000@thenorthern.com.au
SUMMARY:Mitchell Dormer & Dizzy J
DESCRIPTION:
URL:https://thenorthern.com.au/event/mitchell-dormer-dizzy-j-2/
CATEGORIES:Duelling Pianos
END:VEVENT
BEGIN:VEVENT
DTSTART;TZID=Australia/Melbourne:20251022T180000
DTEND;TZID=Australia/Melbourne:20251022T210000
DTSTAMP:20260424T233706
CREATED:20230831T084909Z
LAST-MODIFIED:20250930T033243Z
UID:2477-1761156000-1761166800@thenorthern.com.au
SUMMARY:Ole Falcor
DESCRIPTION:
URL:https://thenorthern.com.au/event/ole-falcor/
CATEGORIES:Front Bar
END:VEVENT
END:VCALENDAR