BEGIN:VCALENDAR
VERSION:2.0
PRODID:-//The Northern Hotel - ECPv6.15.16.1//NONSGML v1.0//EN
CALSCALE:GREGORIAN
METHOD:PUBLISH
X-ORIGINAL-URL:https://thenorthern.com.au
X-WR-CALDESC:Events for The Northern Hotel
REFRESH-INTERVAL;VALUE=DURATION:PT1H
X-Robots-Tag:noindex
X-PUBLISHED-TTL:PT1H
BEGIN:VTIMEZONE
TZID:Australia/Melbourne
BEGIN:STANDARD
TZOFFSETFROM:+1100
TZOFFSETTO:+1000
TZNAME:AEST
DTSTART:20250405T160000
END:STANDARD
BEGIN:DAYLIGHT
TZOFFSETFROM:+1000
TZOFFSETTO:+1100
TZNAME:AEDT
DTSTART:20251004T160000
END:DAYLIGHT
BEGIN:STANDARD
TZOFFSETFROM:+1100
TZOFFSETTO:+1000
TZNAME:AEST
DTSTART:20260404T160000
END:STANDARD
BEGIN:DAYLIGHT
TZOFFSETFROM:+1000
TZOFFSETTO:+1100
TZNAME:AEDT
DTSTART:20261003T160000
END:DAYLIGHT
BEGIN:STANDARD
TZOFFSETFROM:+1100
TZOFFSETTO:+1000
TZNAME:AEST
DTSTART:20270403T160000
END:STANDARD
BEGIN:DAYLIGHT
TZOFFSETFROM:+1000
TZOFFSETTO:+1100
TZNAME:AEDT
DTSTART:20271002T160000
END:DAYLIGHT
END:VTIMEZONE
BEGIN:VEVENT
DTSTART;TZID=Australia/Melbourne:20260118T210000
DTEND;TZID=Australia/Melbourne:20260118T210000
DTSTAMP:20260419T224831
CREATED:20260107T011555Z
LAST-MODIFIED:20260107T011632Z
UID:5123-1768770000-1768770000@thenorthern.com.au
SUMMARY:Mitchell Dormer & Bodhi Acton
DESCRIPTION:
URL:https://thenorthern.com.au/event/mitchell-dormer-bodhi-acton-copy/
CATEGORIES:Duelling Pianos
END:VEVENT
BEGIN:VEVENT
DTSTART;TZID=Australia/Melbourne:20260118T211500
DTEND;TZID=Australia/Melbourne:20260118T211500
DTSTAMP:20260419T224831
CREATED:20260109T070220Z
LAST-MODIFIED:20260109T070408Z
UID:5203-1768770900-1768770900@thenorthern.com.au
SUMMARY:DJ VInyl Sundays Wax Addicts
DESCRIPTION:
URL:https://thenorthern.com.au/event/dj-vinyl-sundays-copy/
CATEGORIES:Front Bar
END:VEVENT
BEGIN:VEVENT
DTSTART;TZID=Australia/Melbourne:20260119T180000
DTEND;TZID=Australia/Melbourne:20260119T210000
DTSTAMP:20260419T224831
CREATED:20260109T070755Z
LAST-MODIFIED:20260109T070837Z
UID:5204-1768845600-1768856400@thenorthern.com.au
SUMMARY:Jerome Williams
DESCRIPTION:
URL:https://thenorthern.com.au/event/jerome-williams-3-copy/
CATEGORIES:Front Bar
END:VEVENT
BEGIN:VEVENT
DTSTART;TZID=Australia/Melbourne:20260119T200000
DTEND;TZID=Australia/Melbourne:20260119T200000
DTSTAMP:20260419T224831
CREATED:20260113T034323Z
LAST-MODIFIED:20260113T034524Z
UID:5264-1768852800-1768852800@thenorthern.com.au
SUMMARY:Backpacker Mondays - $9 Schooners & Basic Spirits
DESCRIPTION:
URL:https://thenorthern.com.au/event/backpacker-mondays-9-schooners-basic-spirits/2026-01-19/
CATEGORIES:Duelling Pianos,Front Bar
END:VEVENT
BEGIN:VEVENT
DTSTART;TZID=Australia/Melbourne:20260119T200000
DTEND;TZID=Australia/Melbourne:20260119T230000
DTSTAMP:20260419T224831
CREATED:20260107T041141Z
LAST-MODIFIED:20260107T041211Z
UID:5152-1768852800-1768863600@thenorthern.com.au
SUMMARY:Bodhi Acton & Mick Buckley
DESCRIPTION:
URL:https://thenorthern.com.au/event/mitchell-dormer-bodhi-acton-mick-buckley/2026-01-19/
CATEGORIES:Duelling Pianos
END:VEVENT
BEGIN:VEVENT
DTSTART;TZID=Australia/Melbourne:20260119T211500
DTEND;TZID=Australia/Melbourne:20260119T233000
DTSTAMP:20260419T224831
CREATED:20260109T071041Z
LAST-MODIFIED:20260109T071157Z
UID:5205-1768857300-1768865400@thenorthern.com.au
SUMMARY:DJ Alice Quidington
DESCRIPTION:
URL:https://thenorthern.com.au/event/andy-v-copy-3-copy/
CATEGORIES:Front Bar
END:VEVENT
BEGIN:VEVENT
DTSTART;TZID=Australia/Melbourne:20260119T230000
DTEND;TZID=Australia/Melbourne:20260119T230000
DTSTAMP:20260419T224831
CREATED:20260107T030425Z
LAST-MODIFIED:20260107T030811Z
UID:5138-1768863600-1768863600@thenorthern.com.au
SUMMARY:Mitchell Dormer & Jon Shorter
DESCRIPTION:
URL:https://thenorthern.com.au/event/sam-wheat-mick-buckley-copy-copy/2026-01-19/
CATEGORIES:Duelling Pianos
END:VEVENT
BEGIN:VEVENT
DTSTART;TZID=Australia/Melbourne:20260120T180000
DTEND;TZID=Australia/Melbourne:20260120T180000
DTSTAMP:20260419T224831
CREATED:20250319T030230Z
LAST-MODIFIED:20260113T015536Z
UID:5255-1768932000-1768932000@thenorthern.com.au
SUMMARY:Musical Bingo
DESCRIPTION:
URL:https://thenorthern.com.au/event/musical-bingo/2026-01-20/
CATEGORIES:Front Bar
END:VEVENT
BEGIN:VEVENT
DTSTART;TZID=Australia/Melbourne:20260120T180000
DTEND;TZID=Australia/Melbourne:20260120T210000
DTSTAMP:20260419T224831
CREATED:20260112T061940Z
LAST-MODIFIED:20260112T062117Z
UID:5209-1768932000-1768942800@thenorthern.com.au
SUMMARY:Marshall Okell
DESCRIPTION:
URL:https://thenorthern.com.au/event/andy-v-copy-9-copy/
CATEGORIES:Front Bar
END:VEVENT
BEGIN:VEVENT
DTSTART;TZID=Australia/Melbourne:20260120T200000
DTEND;TZID=Australia/Melbourne:20260120T200000
DTSTAMP:20260419T224831
CREATED:20230802T065904Z
LAST-MODIFIED:20260113T023018Z
UID:5004-1768939200-1768939200@thenorthern.com.au
SUMMARY:SIN - Service Industry Night -- $9 schooners and basic spirits all night
DESCRIPTION:
URL:https://thenorthern.com.au/event/sin-service-industry-night/2026-01-20/
CATEGORIES:Front Bar
END:VEVENT
BEGIN:VEVENT
DTSTART;TZID=Australia/Melbourne:20260120T230000
DTEND;TZID=Australia/Melbourne:20260120T230000
DTSTAMP:20260419T224831
CREATED:20260107T030900Z
LAST-MODIFIED:20260107T031151Z
UID:5139-1768950000-1768950000@thenorthern.com.au
SUMMARY:Mitchell Dormer & Bodhi Acton
DESCRIPTION:
URL:https://thenorthern.com.au/event/mitchell-dormer-bodhi-acton-copy-copy/
CATEGORIES:Duelling Pianos
END:VEVENT
BEGIN:VEVENT
DTSTART;TZID=Australia/Melbourne:20260121T180000
DTEND;TZID=Australia/Melbourne:20260121T180000
DTSTAMP:20260419T224831
CREATED:20230809T081854Z
LAST-MODIFIED:20230809T081854Z
UID:5233-1769018400-1769018400@thenorthern.com.au
SUMMARY:Trivia Night from 6:00pm
DESCRIPTION:
URL:https://thenorthern.com.au/event/trivia-night-from-630pm/2026-01-21/
CATEGORIES:Duelling Pianos,Front Bar
END:VEVENT
BEGIN:VEVENT
DTSTART;TZID=Australia/Melbourne:20260121T180000
DTEND;TZID=Australia/Melbourne:20260121T210000
DTSTAMP:20260419T224831
CREATED:20260112T062458Z
LAST-MODIFIED:20260112T062550Z
UID:5210-1769018400-1769029200@thenorthern.com.au
SUMMARY:Stephen Lovelight
DESCRIPTION:
URL:https://thenorthern.com.au/event/andy-v-copy-9-copy-copy/
CATEGORIES:Front Bar
END:VEVENT
BEGIN:VEVENT
DTSTART;TZID=Australia/Melbourne:20260121T230000
DTEND;TZID=Australia/Melbourne:20260121T230000
DTSTAMP:20260419T224831
CREATED:20260107T031651Z
LAST-MODIFIED:20260107T031723Z
UID:5140-1769036400-1769036400@thenorthern.com.au
SUMMARY:Mitchell Dormer & Dizzy J
DESCRIPTION:
URL:https://thenorthern.com.au/event/mitchell-dormer-dizzy-j-3-copy-copy/
CATEGORIES:Duelling Pianos
END:VEVENT
BEGIN:VEVENT
DTSTART;TZID=Australia/Melbourne:20260122T180000
DTEND;TZID=Australia/Melbourne:20260122T210000
DTSTAMP:20260419T224831
CREATED:20260112T063006Z
LAST-MODIFIED:20260112T063142Z
UID:5211-1769104800-1769115600@thenorthern.com.au
SUMMARY:Harry Nichols
DESCRIPTION:
URL:https://thenorthern.com.au/event/harry-nichols-3-copy/
CATEGORIES:Front Bar
END:VEVENT
BEGIN:VEVENT
DTSTART;TZID=Australia/Melbourne:20260122T200000
DTEND;TZID=Australia/Melbourne:20260122T230000
DTSTAMP:20260419T224831
CREATED:20260107T041451Z
LAST-MODIFIED:20260107T041532Z
UID:5155-1769112000-1769122800@thenorthern.com.au
SUMMARY:Jon Shorter & Dizzy J
DESCRIPTION:
URL:https://thenorthern.com.au/event/jon-shorter-dizzy-j-copy-2/2026-01-22/
CATEGORIES:Duelling Pianos
END:VEVENT
BEGIN:VEVENT
DTSTART;TZID=Australia/Melbourne:20260122T211500
DTEND;TZID=Australia/Melbourne:20260122T233000
DTSTAMP:20260419T224831
CREATED:20260112T063414Z
LAST-MODIFIED:20260112T063456Z
UID:5212-1769116500-1769124600@thenorthern.com.au
SUMMARY:DJ Quendo
DESCRIPTION:
URL:https://thenorthern.com.au/event/dj-quendo-6-copy-copy/2026-01-22/
CATEGORIES:Front Bar
END:VEVENT
BEGIN:VEVENT
DTSTART;TZID=Australia/Melbourne:20260122T230000
DTEND;TZID=Australia/Melbourne:20260122T230000
DTSTAMP:20260419T224831
CREATED:20260107T032250Z
LAST-MODIFIED:20260107T032432Z
UID:5141-1769122800-1769122800@thenorthern.com.au
SUMMARY:Sam Wheat & Bodhi Acton
DESCRIPTION:
URL:https://thenorthern.com.au/event/sam-wheat-bodhi-action-copy/
CATEGORIES:Duelling Pianos
END:VEVENT
BEGIN:VEVENT
DTSTART;TZID=Australia/Melbourne:20260123T160000
DTEND;TZID=Australia/Melbourne:20260123T160000
DTSTAMP:20260419T224831
CREATED:20240510T002646Z
LAST-MODIFIED:20240510T002646Z
UID:5008-1769184000-1769184000@thenorthern.com.au
SUMMARY:Joker Poker
DESCRIPTION:
URL:https://thenorthern.com.au/event/joker-poker/2026-01-23/
CATEGORIES:Front Bar
END:VEVENT
BEGIN:VEVENT
DTSTART;TZID=Australia/Melbourne:20260123T190000
DTEND;TZID=Australia/Melbourne:20260123T220000
DTSTAMP:20260419T224831
CREATED:20260112T063701Z
LAST-MODIFIED:20260112T063753Z
UID:5213-1769194800-1769205600@thenorthern.com.au
SUMMARY:Erin Shay Duo
DESCRIPTION:
URL:https://thenorthern.com.au/event/erin-shay-duo-copy/
CATEGORIES:Front Bar
END:VEVENT
BEGIN:VEVENT
DTSTART;TZID=Australia/Melbourne:20260123T200000
DTEND;TZID=Australia/Melbourne:20260123T230000
DTSTAMP:20260419T224831
CREATED:20260107T041603Z
LAST-MODIFIED:20260107T041626Z
UID:5156-1769198400-1769209200@thenorthern.com.au
SUMMARY:Sam Wheat & Jonelle De Mello
DESCRIPTION:
URL:https://thenorthern.com.au/event/jon-shorter-dizzy-j-copy-2-copy/2026-01-23/
CATEGORIES:Duelling Pianos
END:VEVENT
BEGIN:VEVENT
DTSTART;TZID=Australia/Melbourne:20260123T221500
DTEND;TZID=Australia/Melbourne:20260123T233000
DTSTAMP:20260419T224831
CREATED:20260112T063906Z
LAST-MODIFIED:20260112T064038Z
UID:5214-1769206500-1769211000@thenorthern.com.au
SUMMARY:DJ Renee Simone
DESCRIPTION:
URL:https://thenorthern.com.au/event/dj-renee-simone-copy-copy/
CATEGORIES:Front Bar
END:VEVENT
BEGIN:VEVENT
DTSTART;TZID=Australia/Melbourne:20260123T230000
DTEND;TZID=Australia/Melbourne:20260123T230000
DTSTAMP:20260419T224831
CREATED:20260107T032837Z
LAST-MODIFIED:20260107T032928Z
UID:5142-1769209200-1769209200@thenorthern.com.au
SUMMARY:Dizzy J & Jon Shorter
DESCRIPTION:
URL:https://thenorthern.com.au/event/bodhi-acton-sam-wheat-copy-copy-copy-copy-copy-2/2026-01-23/
CATEGORIES:Duelling Pianos
END:VEVENT
BEGIN:VEVENT
DTSTART;TZID=Australia/Melbourne:20260124T190000
DTEND;TZID=Australia/Melbourne:20260124T220000
DTSTAMP:20260419T224831
CREATED:20260112T064126Z
LAST-MODIFIED:20260112T064240Z
UID:5215-1769281200-1769292000@thenorthern.com.au
SUMMARY:JB Blues Breakers
DESCRIPTION:
URL:https://thenorthern.com.au/event/andy-v-copy-7-copy/
CATEGORIES:Front Bar
END:VEVENT
BEGIN:VEVENT
DTSTART;TZID=Australia/Melbourne:20260124T200000
DTEND;TZID=Australia/Melbourne:20260124T230000
DTSTAMP:20260419T224831
CREATED:20260107T041707Z
LAST-MODIFIED:20260107T041737Z
UID:5157-1769284800-1769295600@thenorthern.com.au
SUMMARY:Dizzy J & Jonelle De Mello
DESCRIPTION:
URL:https://thenorthern.com.au/event/jon-shorter-dizzy-j-copy-2-copy-2/2026-01-24/
CATEGORIES:Duelling Pianos
END:VEVENT
BEGIN:VEVENT
DTSTART;TZID=Australia/Melbourne:20260124T223000
DTEND;TZID=Australia/Melbourne:20260124T233000
DTSTAMP:20260419T224831
CREATED:20260112T064425Z
LAST-MODIFIED:20260112T064516Z
UID:5216-1769293800-1769297400@thenorthern.com.au
SUMMARY:DJ Jamie Lowe
DESCRIPTION:
URL:https://thenorthern.com.au/event/jamie-lowe-copy/
CATEGORIES:Front Bar
END:VEVENT
BEGIN:VEVENT
DTSTART;TZID=Australia/Melbourne:20260124T230000
DTEND;TZID=Australia/Melbourne:20260124T230000
DTSTAMP:20260419T224831
CREATED:20260107T033503Z
LAST-MODIFIED:20260107T033735Z
UID:5144-1769295600-1769295600@thenorthern.com.au
SUMMARY:Bodhi Acton & Sam Wheat
DESCRIPTION:
URL:https://thenorthern.com.au/event/bodhi-acton-sam-wheat-copy-copy-copy-copy-copy-2-copy/2026-01-24/
CATEGORIES:Duelling Pianos
END:VEVENT
BEGIN:VEVENT
DTSTART;VALUE=DATE:20260125
DTEND;VALUE=DATE:20260126
DTSTAMP:20260419T224831
CREATED:20230809T081820Z
LAST-MODIFIED:20260113T020419Z
UID:5015-1769299200-1769385599@thenorthern.com.au
SUMMARY:Sippin' Sundays
DESCRIPTION:$15 margis and spritzers all day
URL:https://thenorthern.com.au/event/15-margaritas-all-day/2026-01-25/
CATEGORIES:Duelling Pianos,Front Bar
END:VEVENT
BEGIN:VEVENT
DTSTART;TZID=Australia/Melbourne:20260125T180000
DTEND;TZID=Australia/Melbourne:20260125T210000
DTSTAMP:20260419T224831
CREATED:20260107T041801Z
LAST-MODIFIED:20260107T041826Z
UID:5158-1769364000-1769374800@thenorthern.com.au
SUMMARY:Dizzy J & Francesca Lidonni
DESCRIPTION:
URL:https://thenorthern.com.au/event/jon-shorter-dizzy-j-copy-2-copy-3/2026-01-25/
CATEGORIES:Duelling Pianos
END:VEVENT
BEGIN:VEVENT
DTSTART;TZID=Australia/Melbourne:20260125T180000
DTEND;TZID=Australia/Melbourne:20260125T210000
DTSTAMP:20260419T224831
CREATED:20260112T064735Z
LAST-MODIFIED:20260112T064837Z
UID:5217-1769364000-1769374800@thenorthern.com.au
SUMMARY:Cinnamon Sun
DESCRIPTION:
URL:https://thenorthern.com.au/event/dj-vinyl-sundays-copy-copy/
CATEGORIES:Front Bar
END:VEVENT
END:VCALENDAR