BEGIN:VCALENDAR
VERSION:2.0
PRODID:-//The Northern Hotel - ECPv6.15.16.1//NONSGML v1.0//EN
CALSCALE:GREGORIAN
METHOD:PUBLISH
X-WR-CALNAME:The Northern Hotel
X-ORIGINAL-URL:https://thenorthern.com.au
X-WR-CALDESC:Events for The Northern Hotel
REFRESH-INTERVAL;VALUE=DURATION:PT1H
X-Robots-Tag:noindex
X-PUBLISHED-TTL:PT1H
BEGIN:VTIMEZONE
TZID:Australia/Melbourne
BEGIN:STANDARD
TZOFFSETFROM:+1100
TZOFFSETTO:+1000
TZNAME:AEST
DTSTART:20250405T160000
END:STANDARD
BEGIN:DAYLIGHT
TZOFFSETFROM:+1000
TZOFFSETTO:+1100
TZNAME:AEDT
DTSTART:20251004T160000
END:DAYLIGHT
BEGIN:STANDARD
TZOFFSETFROM:+1100
TZOFFSETTO:+1000
TZNAME:AEST
DTSTART:20260404T160000
END:STANDARD
BEGIN:DAYLIGHT
TZOFFSETFROM:+1000
TZOFFSETTO:+1100
TZNAME:AEDT
DTSTART:20261003T160000
END:DAYLIGHT
BEGIN:STANDARD
TZOFFSETFROM:+1100
TZOFFSETTO:+1000
TZNAME:AEST
DTSTART:20270403T160000
END:STANDARD
BEGIN:DAYLIGHT
TZOFFSETFROM:+1000
TZOFFSETTO:+1100
TZNAME:AEDT
DTSTART:20271002T160000
END:DAYLIGHT
END:VTIMEZONE
BEGIN:VEVENT
DTSTART;TZID=Australia/Melbourne:20260222T201500
DTEND;TZID=Australia/Melbourne:20260222T233000
DTSTAMP:20260423T002315
CREATED:20260127T065413Z
LAST-MODIFIED:20260127T065609Z
UID:5341-1771791300-1771803000@thenorthern.com.au
SUMMARY:Vinyl Sunday ft. Sunny Side Up
DESCRIPTION:
URL:https://thenorthern.com.au/event/dj-vinyl-sundays-copy-copy-2-copy-copy-copy/
CATEGORIES:Front Bar
END:VEVENT
BEGIN:VEVENT
DTSTART;TZID=Australia/Melbourne:20260222T210000
DTEND;TZID=Australia/Melbourne:20260222T233000
DTSTAMP:20260423T002315
CREATED:20260129T031635Z
LAST-MODIFIED:20260129T031915Z
UID:5376-1771794000-1771803000@thenorthern.com.au
SUMMARY:Mick Buckley & Jon Shorter
DESCRIPTION:
URL:https://thenorthern.com.au/event/mick-buckley-sam-wheat-copy-copy-copy-copy/
CATEGORIES:Duelling Pianos
END:VEVENT
BEGIN:VEVENT
DTSTART;TZID=Australia/Melbourne:20260223T200000
DTEND;TZID=Australia/Melbourne:20260223T200000
DTSTAMP:20260423T002315
CREATED:20260113T034323Z
LAST-MODIFIED:20260113T034323Z
UID:5269-1771876800-1771876800@thenorthern.com.au
SUMMARY:Backpacker Mondays - $9 Schooners & Basic Spirits
DESCRIPTION:
URL:https://thenorthern.com.au/event/backpacker-mondays-9-schooners-basic-spirits/2026-02-23/
CATEGORIES:Duelling Pianos,Front Bar
END:VEVENT
BEGIN:VEVENT
DTSTART;TZID=Australia/Melbourne:20260223T200000
DTEND;TZID=Australia/Melbourne:20260223T230000
DTSTAMP:20260423T002315
CREATED:20260128T043115Z
LAST-MODIFIED:20260128T043559Z
UID:5343-1771876800-1771887600@thenorthern.com.au
SUMMARY:Jerome
DESCRIPTION:
URL:https://thenorthern.com.au/event/jerome-williams-3-copy-copy-copy-copy-copy-copy/
CATEGORIES:Front Bar
END:VEVENT
BEGIN:VEVENT
DTSTART;TZID=Australia/Melbourne:20260223T200000
DTEND;TZID=Australia/Melbourne:20260223T233000
DTSTAMP:20260423T002315
CREATED:20260129T032258Z
LAST-MODIFIED:20260129T032437Z
UID:5377-1771876800-1771889400@thenorthern.com.au
SUMMARY:Mitchell Dormer\, Jon Shorter & Shane Parry
DESCRIPTION:
URL:https://thenorthern.com.au/event/bodhi-acton-sam-wheat-copy-copy-copy-2-copy-copy-2-copy/2026-02-23/
CATEGORIES:Duelling Pianos
END:VEVENT
BEGIN:VEVENT
DTSTART;TZID=Australia/Melbourne:20260224T180000
DTEND;TZID=Australia/Melbourne:20260224T180000
DTSTAMP:20260423T002315
CREATED:20250319T030230Z
LAST-MODIFIED:20260113T015543Z
UID:5260-1771956000-1771956000@thenorthern.com.au
SUMMARY:Musical Bingo
DESCRIPTION:
URL:https://thenorthern.com.au/event/musical-bingo/2026-02-24/
CATEGORIES:Front Bar
END:VEVENT
BEGIN:VEVENT
DTSTART;TZID=Australia/Melbourne:20260224T180000
DTEND;TZID=Australia/Melbourne:20260224T210000
DTSTAMP:20260423T002315
CREATED:20260128T044025Z
LAST-MODIFIED:20260128T044314Z
UID:5344-1771956000-1771966800@thenorthern.com.au
SUMMARY:Marshall Okell
DESCRIPTION:
URL:https://thenorthern.com.au/event/andy-v-copy-9-copy-copy-2-copy-copy-copy-copy/
CATEGORIES:Front Bar
END:VEVENT
BEGIN:VEVENT
DTSTART;TZID=Australia/Melbourne:20260224T200000
DTEND;TZID=Australia/Melbourne:20260224T200000
DTSTAMP:20260423T002315
CREATED:20230802T065904Z
LAST-MODIFIED:20260113T023026Z
UID:5097-1771963200-1771963200@thenorthern.com.au
SUMMARY:SIN - Service Industry Night -- $9 schooners and basic spirits all night
DESCRIPTION:
URL:https://thenorthern.com.au/event/sin-service-industry-night/2026-02-24/
CATEGORIES:Front Bar
END:VEVENT
BEGIN:VEVENT
DTSTART;TZID=Australia/Melbourne:20260224T200000
DTEND;TZID=Australia/Melbourne:20260224T233000
DTSTAMP:20260423T002315
CREATED:20260129T032553Z
LAST-MODIFIED:20260129T033422Z
UID:5378-1771963200-1771975800@thenorthern.com.au
SUMMARY:Mitchell Dormer\, Jimmy Goodwin & Shane Parry
DESCRIPTION:
URL:https://thenorthern.com.au/event/bodhi-acton-sam-wheat-copy-copy-copy-copy-copy-copy-copy-copy-copy-2-copy-copy-copy-2-copy-copy-copy-copy/
CATEGORIES:Duelling Pianos
END:VEVENT
BEGIN:VEVENT
DTSTART;TZID=Australia/Melbourne:20260225T180000
DTEND;TZID=Australia/Melbourne:20260225T180000
DTSTAMP:20260423T002315
CREATED:20230809T081854Z
LAST-MODIFIED:20230809T081854Z
UID:5238-1772042400-1772042400@thenorthern.com.au
SUMMARY:Trivia Night from 6:00pm
DESCRIPTION:
URL:https://thenorthern.com.au/event/trivia-night-from-630pm/2026-02-25/
CATEGORIES:Duelling Pianos,Front Bar
END:VEVENT
BEGIN:VEVENT
DTSTART;TZID=Australia/Melbourne:20260225T180000
DTEND;TZID=Australia/Melbourne:20260225T210000
DTSTAMP:20260423T002315
CREATED:20260128T045101Z
LAST-MODIFIED:20260128T045154Z
UID:5345-1772042400-1772053200@thenorthern.com.au
SUMMARY:Dan Hannaford
DESCRIPTION:
URL:https://thenorthern.com.au/event/andy-v-copy-copy-2-copy-copy/
CATEGORIES:Front Bar
END:VEVENT
BEGIN:VEVENT
DTSTART;TZID=Australia/Melbourne:20260225T200000
DTEND;TZID=Australia/Melbourne:20260225T233000
DTSTAMP:20260423T002315
CREATED:20260129T033652Z
LAST-MODIFIED:20260129T033733Z
UID:5379-1772049600-1772062200@thenorthern.com.au
SUMMARY:Mitchell Dormer\, Jimmy Goodwin & Bodhi Acton
DESCRIPTION:
URL:https://thenorthern.com.au/event/jimmy-goodwin-sam-wheat-copy-copy-copy-copy-2-copy-copy-2/
CATEGORIES:Duelling Pianos
END:VEVENT
BEGIN:VEVENT
DTSTART;TZID=Australia/Melbourne:20260226T180000
DTEND;TZID=Australia/Melbourne:20260226T210000
DTSTAMP:20260423T002315
CREATED:20260128T050033Z
LAST-MODIFIED:20260128T050129Z
UID:5346-1772128800-1772139600@thenorthern.com.au
SUMMARY:Izzy Day
DESCRIPTION:
URL:https://thenorthern.com.au/event/bodhi-acton-sam-wheat-copy-copy-copy-copy-copy-copy-copy-2-copy/2026-02-26/
CATEGORIES:Front Bar
END:VEVENT
BEGIN:VEVENT
DTSTART;TZID=Australia/Melbourne:20260226T200000
DTEND;TZID=Australia/Melbourne:20260226T230000
DTSTAMP:20260423T002315
CREATED:20260129T034839Z
LAST-MODIFIED:20260129T035036Z
UID:5381-1772136000-1772146800@thenorthern.com.au
SUMMARY:Sam Wheat & Dizzy J
DESCRIPTION:
URL:https://thenorthern.com.au/event/bodhi-acton-sam-wheat-copy-copy-copy-copy-copy-copy-copy-copy-copy-2-copy-copy-copy-copy-copy-copy-copy-copy-2/
CATEGORIES:Duelling Pianos
END:VEVENT
BEGIN:VEVENT
DTSTART;TZID=Australia/Melbourne:20260226T211500
DTEND;TZID=Australia/Melbourne:20260226T233000
DTSTAMP:20260423T002315
CREATED:20260128T050914Z
LAST-MODIFIED:20260128T051606Z
UID:5347-1772140500-1772148600@thenorthern.com.au
SUMMARY:DJ Dave Quendo
DESCRIPTION:
URL:https://thenorthern.com.au/event/dj-quendo-6-copy-2-copy-copy/2026-02-26/
CATEGORIES:Front Bar
END:VEVENT
BEGIN:VEVENT
DTSTART;TZID=Australia/Melbourne:20260226T230000
DTEND;TZID=Australia/Melbourne:20260226T233000
DTSTAMP:20260423T002315
CREATED:20260129T034336Z
LAST-MODIFIED:20260129T034532Z
UID:5380-1772146800-1772148600@thenorthern.com.au
SUMMARY:Bodhi Acton & Jimmy Goodwin
DESCRIPTION:
URL:https://thenorthern.com.au/event/jon-shorter-dizzy-j-copy-copy/2026-02-26/
CATEGORIES:Duelling Pianos
END:VEVENT
BEGIN:VEVENT
DTSTART;TZID=Australia/Melbourne:20260227T160000
DTEND;TZID=Australia/Melbourne:20260227T160000
DTSTAMP:20260423T002315
CREATED:20240510T002646Z
LAST-MODIFIED:20240510T002646Z
UID:5101-1772208000-1772208000@thenorthern.com.au
SUMMARY:Joker Poker
DESCRIPTION:
URL:https://thenorthern.com.au/event/joker-poker/2026-02-27/
CATEGORIES:Front Bar
END:VEVENT
BEGIN:VEVENT
DTSTART;TZID=Australia/Melbourne:20260227T190000
DTEND;TZID=Australia/Melbourne:20260227T220000
DTSTAMP:20260423T002315
CREATED:20260128T051820Z
LAST-MODIFIED:20260128T051945Z
UID:5348-1772218800-1772229600@thenorthern.com.au
SUMMARY:JB Blues Breakers
DESCRIPTION:
URL:https://thenorthern.com.au/event/andy-v-copy-7-copy-copy-2-copy-copy/
CATEGORIES:Front Bar
END:VEVENT
BEGIN:VEVENT
DTSTART;TZID=Australia/Melbourne:20260227T223000
DTEND;TZID=Australia/Melbourne:20260227T233000
DTSTAMP:20260423T002315
CREATED:20260128T052435Z
LAST-MODIFIED:20260128T052636Z
UID:5350-1772231400-1772235000@thenorthern.com.au
SUMMARY:Nicki Bomba
DESCRIPTION:
URL:https://thenorthern.com.au/event/dj-renee-simone-830-pm-cl-copy-copy-2-copy-copy-copy-copy-copy-copy-copy-copy-copy-copy/
CATEGORIES:Front Bar
END:VEVENT
BEGIN:VEVENT
DTSTART;TZID=Australia/Melbourne:20260227T230000
DTEND;TZID=Australia/Melbourne:20260227T233000
DTSTAMP:20260423T002315
CREATED:20260129T035253Z
LAST-MODIFIED:20260129T035414Z
UID:5382-1772233200-1772235000@thenorthern.com.au
SUMMARY:Sam Wheat & Shane Parry
DESCRIPTION:
URL:https://thenorthern.com.au/event/shane-parry-sam-wheat-2-copy/2026-02-27/
CATEGORIES:Duelling Pianos
END:VEVENT
BEGIN:VEVENT
DTSTART;TZID=Australia/Melbourne:20260228T190000
DTEND;TZID=Australia/Melbourne:20260228T220000
DTSTAMP:20260423T002315
CREATED:20260128T053224Z
LAST-MODIFIED:20260128T053644Z
UID:5351-1772305200-1772316000@thenorthern.com.au
SUMMARY:Milo Green Trio
DESCRIPTION:
URL:https://thenorthern.com.au/event/milo-green-copy/
CATEGORIES:Front Bar
END:VEVENT
BEGIN:VEVENT
DTSTART;TZID=Australia/Melbourne:20260228T200000
DTEND;TZID=Australia/Melbourne:20260228T230000
DTSTAMP:20260423T002315
CREATED:20260129T041755Z
LAST-MODIFIED:20260129T041828Z
UID:5384-1772308800-1772319600@thenorthern.com.au
SUMMARY:Mick Buckley & Sam Wheat
DESCRIPTION:
URL:https://thenorthern.com.au/event/mick-buckley-sam-wheat-copy-copy-copy-2/
CATEGORIES:Duelling Pianos
END:VEVENT
BEGIN:VEVENT
DTSTART;TZID=Australia/Melbourne:20260228T230000
DTEND;TZID=Australia/Melbourne:20260228T233000
DTSTAMP:20260423T002315
CREATED:20260129T040553Z
LAST-MODIFIED:20260129T041258Z
UID:5383-1772319600-1772321400@thenorthern.com.au
SUMMARY:Jimmy Goodwin & Bodhi Acton
DESCRIPTION:
URL:https://thenorthern.com.au/event/jimmy-goodwin-sam-wheat-copy-copy-copy-copy-2-copy-copy-2-copy/
CATEGORIES:Duelling Pianos
END:VEVENT
BEGIN:VEVENT
DTSTART;TZID=Australia/Melbourne:20260301T170000
DTEND;TZID=Australia/Melbourne:20260301T200000
DTSTAMP:20260423T002315
CREATED:20260302T023027Z
LAST-MODIFIED:20260302T024044Z
UID:5429-1772384400-1772395200@thenorthern.com.au
SUMMARY:Trilla
DESCRIPTION:
URL:https://thenorthern.com.au/event/dj-quendo-6-copy-2-copy-copy-copy/2026-03-01/
CATEGORIES:Front Bar
END:VEVENT
BEGIN:VEVENT
DTSTART;TZID=Australia/Melbourne:20260301T201500
DTEND;TZID=Australia/Melbourne:20260301T233000
DTSTAMP:20260423T002315
CREATED:20260302T023327Z
LAST-MODIFIED:20260302T024005Z
UID:5430-1772396100-1772407800@thenorthern.com.au
SUMMARY:Vinyl Sunday Ft. Eric Downer
DESCRIPTION:
URL:https://thenorthern.com.au/event/dj-quendo-6-copy-2-copy-copy-copy-2/2026-03-01/
CATEGORIES:Front Bar
END:VEVENT
BEGIN:VEVENT
DTSTART;TZID=Australia/Melbourne:20260301T210000
DTEND;TZID=Australia/Melbourne:20260301T233000
DTSTAMP:20260423T002315
CREATED:20260129T042500Z
LAST-MODIFIED:20260129T042629Z
UID:5385-1772398800-1772407800@thenorthern.com.au
SUMMARY:Mick Buckley & Dizzy J
DESCRIPTION:
URL:https://thenorthern.com.au/event/mick-buckley-dizzy-j-2-copy/2026-03-01/
CATEGORIES:Duelling Pianos
END:VEVENT
BEGIN:VEVENT
DTSTART;TZID=Australia/Melbourne:20260302T180000
DTEND;TZID=Australia/Melbourne:20260302T210000
DTSTAMP:20260423T002315
CREATED:20260302T023824Z
LAST-MODIFIED:20260302T023936Z
UID:5431-1772474400-1772485200@thenorthern.com.au
SUMMARY:Jerome Williams
DESCRIPTION:
URL:https://thenorthern.com.au/event/dj-quendo-6-copy-2-copy-copy-copy-3/2026-03-02/
CATEGORIES:Front Bar
END:VEVENT
BEGIN:VEVENT
DTSTART;TZID=Australia/Melbourne:20260302T210000
DTEND;TZID=Australia/Melbourne:20260302T233000
DTSTAMP:20260423T002315
CREATED:20260304T044305Z
LAST-MODIFIED:20260304T044528Z
UID:5493-1772485200-1772494200@thenorthern.com.au
SUMMARY:Mitchell Dormer & Dizzy J
DESCRIPTION:
URL:https://thenorthern.com.au/event/mitchell-dormer-dizzy-j-4/
CATEGORIES:Duelling Pianos
END:VEVENT
BEGIN:VEVENT
DTSTART;TZID=Australia/Melbourne:20260303T210000
DTEND;TZID=Australia/Melbourne:20260303T233000
DTSTAMP:20260423T002315
CREATED:20260304T045103Z
LAST-MODIFIED:20260304T045146Z
UID:5494-1772571600-1772580600@thenorthern.com.au
SUMMARY:Mitchell Dormer & Jon Shorter
DESCRIPTION:
URL:https://thenorthern.com.au/event/mitchell-dormer-jon-shorter-2/
CATEGORIES:Duelling Pianos
END:VEVENT
BEGIN:VEVENT
DTSTART;TZID=Australia/Melbourne:20260303T211500
DTEND;TZID=Australia/Melbourne:20260303T233000
DTSTAMP:20260423T002315
CREATED:20260302T024623Z
LAST-MODIFIED:20260302T025001Z
UID:5432-1772572500-1772580600@thenorthern.com.au
SUMMARY:Marshal Okell
DESCRIPTION:
URL:https://thenorthern.com.au/event/dj-davi-bangma-copy/
CATEGORIES:Front Bar
END:VEVENT
END:VCALENDAR