BEGIN:VCALENDAR
VERSION:2.0
PRODID:-//The Northern Hotel - ECPv6.15.16.1//NONSGML v1.0//EN
CALSCALE:GREGORIAN
METHOD:PUBLISH
X-WR-CALNAME:The Northern Hotel
X-ORIGINAL-URL:https://thenorthern.com.au
X-WR-CALDESC:Events for The Northern Hotel
REFRESH-INTERVAL;VALUE=DURATION:PT1H
X-Robots-Tag:noindex
X-PUBLISHED-TTL:PT1H
BEGIN:VTIMEZONE
TZID:Australia/Melbourne
BEGIN:STANDARD
TZOFFSETFROM:+1100
TZOFFSETTO:+1000
TZNAME:AEST
DTSTART:20240406T160000
END:STANDARD
BEGIN:DAYLIGHT
TZOFFSETFROM:+1000
TZOFFSETTO:+1100
TZNAME:AEDT
DTSTART:20241005T160000
END:DAYLIGHT
BEGIN:STANDARD
TZOFFSETFROM:+1100
TZOFFSETTO:+1000
TZNAME:AEST
DTSTART:20250405T160000
END:STANDARD
BEGIN:DAYLIGHT
TZOFFSETFROM:+1000
TZOFFSETTO:+1100
TZNAME:AEDT
DTSTART:20251004T160000
END:DAYLIGHT
BEGIN:STANDARD
TZOFFSETFROM:+1100
TZOFFSETTO:+1000
TZNAME:AEST
DTSTART:20260404T160000
END:STANDARD
BEGIN:DAYLIGHT
TZOFFSETFROM:+1000
TZOFFSETTO:+1100
TZNAME:AEDT
DTSTART:20261003T160000
END:DAYLIGHT
END:VTIMEZONE
BEGIN:VEVENT
DTSTART;TZID=Australia/Melbourne:20250103T183000
DTEND;TZID=Australia/Melbourne:20250103T213000
DTSTAMP:20260420T013035
CREATED:20240502T060511Z
LAST-MODIFIED:20250114T014848Z
UID:2840-1735929000-1735939800@thenorthern.com.au
SUMMARY:Jock Barnes Trio
DESCRIPTION:
URL:https://thenorthern.com.au/event/jock-barnes/
CATEGORIES:Front Bar
END:VEVENT
BEGIN:VEVENT
DTSTART;TZID=Australia/Melbourne:20250106T230000
DTEND;TZID=Australia/Melbourne:20250106T230000
DTSTAMP:20260420T013035
CREATED:20250114T014057Z
LAST-MODIFIED:20250114T014459Z
UID:3751-1736204400-1736204400@thenorthern.com.au
SUMMARY:Dj Oren Selecta - 11pm CL
DESCRIPTION:
URL:https://thenorthern.com.au/event/dj-oren-selecta-11pm-cl-2/2025-01-06/
CATEGORIES:Front Bar
END:VEVENT
BEGIN:VEVENT
DTSTART;TZID=Australia/Melbourne:20250109T213000
DTEND;TZID=Australia/Melbourne:20250109T213000
DTSTAMP:20260420T013035
CREATED:20230424T002100Z
LAST-MODIFIED:20250114T015532Z
UID:2036-1736458200-1736458200@thenorthern.com.au
SUMMARY:Dj Quendo - 9:30 CL
DESCRIPTION:
URL:https://thenorthern.com.au/event/dj-quendo-3/2025-01-09/
CATEGORIES:Front Bar
END:VEVENT
BEGIN:VEVENT
DTSTART;TZID=Australia/Melbourne:20250110T193000
DTEND;TZID=Australia/Melbourne:20250110T223000
DTSTAMP:20260420T013035
CREATED:20250114T015734Z
LAST-MODIFIED:20250114T015734Z
UID:3773-1736537400-1736548200@thenorthern.com.au
SUMMARY:Duo
DESCRIPTION:
URL:https://thenorthern.com.au/event/duo/
CATEGORIES:Front Bar
END:VEVENT
BEGIN:VEVENT
DTSTART;TZID=Australia/Melbourne:20250112T193000
DTEND;TZID=Australia/Melbourne:20250112T223000
DTSTAMP:20260420T013035
CREATED:20241101T045816Z
LAST-MODIFIED:20250114T020059Z
UID:3512-1736710200-1736721000@thenorthern.com.au
SUMMARY:Sarah Grant Trio
DESCRIPTION:
URL:https://thenorthern.com.au/event/sarah-grant-trio/
CATEGORIES:Front Bar
END:VEVENT
BEGIN:VEVENT
DTSTART;TZID=Australia/Melbourne:20250117T193000
DTEND;TZID=Australia/Melbourne:20250117T223000
DTSTAMP:20260420T013035
CREATED:20250114T020230Z
LAST-MODIFIED:20250114T020230Z
UID:3776-1737142200-1737153000@thenorthern.com.au
SUMMARY:Alpha Stomp Band
DESCRIPTION:
URL:https://thenorthern.com.au/event/alpha-stomp-band/
CATEGORIES:Front Bar
END:VEVENT
BEGIN:VEVENT
DTSTART;TZID=Australia/Melbourne:20250117T230000
DTEND;TZID=Australia/Melbourne:20250117T230000
DTSTAMP:20260420T013035
CREATED:20250114T020305Z
LAST-MODIFIED:20250227T014645Z
UID:3777-1737154800-1737154800@thenorthern.com.au
SUMMARY:DJ - 11pm CL
DESCRIPTION:
URL:https://thenorthern.com.au/event/dj-11pm-cl/2025-01-17/
CATEGORIES:Front Bar
END:VEVENT
BEGIN:VEVENT
DTSTART;TZID=Australia/Melbourne:20250119T203000
DTEND;TZID=Australia/Melbourne:20250119T203000
DTSTAMP:20260420T013035
CREATED:20250114T020957Z
LAST-MODIFIED:20250114T020957Z
UID:3781-1737318600-1737318600@thenorthern.com.au
SUMMARY:DJ - 8.30pm to 12am CL
DESCRIPTION:
URL:https://thenorthern.com.au/event/dj-8-30pm-to-12am-cl/
CATEGORIES:Front Bar
END:VEVENT
BEGIN:VEVENT
DTSTART;TZID=Australia/Melbourne:20250124T160000
DTEND;TZID=Australia/Melbourne:20250124T190000
DTSTAMP:20260420T013035
CREATED:20240502T055832Z
LAST-MODIFIED:20250114T021127Z
UID:2836-1737734400-1737745200@thenorthern.com.au
SUMMARY:OOZ
DESCRIPTION:
URL:https://thenorthern.com.au/event/ooz/
CATEGORIES:Front Bar
END:VEVENT
BEGIN:VEVENT
DTSTART;TZID=Australia/Melbourne:20250124T193000
DTEND;TZID=Australia/Melbourne:20250124T223000
DTSTAMP:20260420T013035
CREATED:20241101T044025Z
LAST-MODIFIED:20250114T021304Z
UID:3488-1737747000-1737757800@thenorthern.com.au
SUMMARY:Barry Mclay Duo
DESCRIPTION:
URL:https://thenorthern.com.au/event/barry-mclay/
CATEGORIES:Front Bar
END:VEVENT
BEGIN:VEVENT
DTSTART;TZID=Australia/Melbourne:20250124T230000
DTEND;TZID=Australia/Melbourne:20250124T230000
DTSTAMP:20260420T013035
CREATED:20250114T021250Z
LAST-MODIFIED:20250114T021250Z
UID:3784-1737759600-1737759600@thenorthern.com.au
SUMMARY:DJ Boz - 11pm CL
DESCRIPTION:
URL:https://thenorthern.com.au/event/dj-boz-11pm-cl/
CATEGORIES:Front Bar
END:VEVENT
BEGIN:VEVENT
DTSTART;TZID=Australia/Melbourne:20250131T160000
DTEND;TZID=Australia/Melbourne:20250131T190000
DTSTAMP:20260420T013035
CREATED:20250114T021653Z
LAST-MODIFIED:20250114T021725Z
UID:3789-1738339200-1738350000@thenorthern.com.au
SUMMARY:Solo or Matty Rogers
DESCRIPTION:
URL:https://thenorthern.com.au/event/solo-or-matty/
CATEGORIES:Front Bar
END:VEVENT
BEGIN:VEVENT
DTSTART;TZID=Australia/Melbourne:20250131T193000
DTEND;TZID=Australia/Melbourne:20250131T223000
DTSTAMP:20260420T013035
CREATED:20250114T021739Z
LAST-MODIFIED:20250114T021739Z
UID:3790-1738351800-1738362600@thenorthern.com.au
SUMMARY:Duo or Matty Rogers
DESCRIPTION:
URL:https://thenorthern.com.au/event/duo-or-matty-rogers/
CATEGORIES:Front Bar
END:VEVENT
END:VCALENDAR